BEGIN:VCALENDAR
VERSION:2.0
PRODID:-//Department Of Education//55fc505b-1f4c-415f-aae9-c4b26f8ed2d7
BEGIN:VTIMEZONE
TZID:Australia/Sydney
TZURL:http://tzurl.org/zoneinfo-outlook/Australia/Sydney
X-LIC-LOCATION:Australia/Sydney
BEGIN:STANDARD
TZOFFSETFROM:+1100
TZOFFSETTO:+1000
TZNAME:AEST
DTSTART:19700405T030000
RRULE:FREQ=YEARLY;BYMONTH=4;BYDAY=1SU
END:STANDARD
BEGIN:DAYLIGHT
TZOFFSETFROM:+1000
TZOFFSETTO:+1100
TZNAME:AEDT
DTSTART:19701004T020000
RRULE:FREQ=YEARLY;BYMONTH=10;BYDAY=1SU
END:DAYLIGHT
END:VTIMEZONE
CALSCALE:GREGORIAN
X-WR-TIMEZONE:Australia/Sydney
BEGIN:VEVENT
DTSTART;VALUE=DATE:20200227
DTEND;VALUE=DATE:20200229
DTSTAMP:20200227T000000Z
UID:ad9ec2e6-0d76-4ce1-8cd8-2758e2e6dfaf
LOCATION:  
SUMMARY;LANGUAGE=en-us:Zone Swimming Carnival
SEQUENCE:0
DESCRIPTION:  
END:VEVENT
TRANSP:TRANSPARENT
END:VCALENDAR
