BEGIN:VCALENDAR
VERSION:2.0
PRODID:-//Department Of Education//581bb366-aadb-4aed-a686-9c80c2ec51f9
BEGIN:VTIMEZONE
TZID:Australia/Sydney
TZURL:http://tzurl.org/zoneinfo-outlook/Australia/Sydney
X-LIC-LOCATION:Australia/Sydney
BEGIN:STANDARD
TZOFFSETFROM:+1100
TZOFFSETTO:+1000
TZNAME:AEST
DTSTART:19700405T030000
RRULE:FREQ=YEARLY;BYMONTH=4;BYDAY=1SU
END:STANDARD
BEGIN:DAYLIGHT
TZOFFSETFROM:+1000
TZOFFSETTO:+1100
TZNAME:AEDT
DTSTART:19701004T020000
RRULE:FREQ=YEARLY;BYMONTH=10;BYDAY=1SU
END:DAYLIGHT
END:VTIMEZONE
CALSCALE:GREGORIAN
X-WR-TIMEZONE:Australia/Sydney
BEGIN:VEVENT
DTSTART;TZID=Australia/Sydney:20200302T180000
DTEND;TZID=Australia/Sydney:20200302T200000
DTSTAMP:20200302T000000Z
UID:20910ea1-e1fb-47b1-9a5b-83247d8073bc
LOCATION: 
SUMMARY;LANGUAGE=en-us:Elizabeth Macarthur HS Yr 7 2021 Information Evening
SEQUENCE:0
DESCRIPTION:  
END:VEVENT
TRANSP:TRANSPARENT
END:VCALENDAR
