BEGIN:VCALENDAR
VERSION:2.0
PRODID:-//Department Of Education//31a5157f-b899-41ef-aacd-6bea6c1798b8
BEGIN:VTIMEZONE
TZID:Australia/Sydney
TZURL:http://tzurl.org/zoneinfo-outlook/Australia/Sydney
X-LIC-LOCATION:Australia/Sydney
BEGIN:STANDARD
TZOFFSETFROM:+1100
TZOFFSETTO:+1000
TZNAME:AEST
DTSTART:19700405T030000
RRULE:FREQ=YEARLY;BYMONTH=4;BYDAY=1SU
END:STANDARD
BEGIN:DAYLIGHT
TZOFFSETFROM:+1000
TZOFFSETTO:+1100
TZNAME:AEDT
DTSTART:19701004T020000
RRULE:FREQ=YEARLY;BYMONTH=10;BYDAY=1SU
END:DAYLIGHT
END:VTIMEZONE
CALSCALE:GREGORIAN
X-WR-TIMEZONE:Australia/Sydney
BEGIN:VEVENT
DTSTART;TZID=Australia/Sydney:20200305T141000
DTEND;TZID=Australia/Sydney:20200305T145500
DTSTAMP:20200305T000000Z
UID:e5e4ad27-bf80-4365-ba0c-5fd2621dde20
LOCATION: 
SUMMARY;LANGUAGE=en-us:Silver Assembly - School Leaders
SEQUENCE:0
DESCRIPTION:  
END:VEVENT
TRANSP:TRANSPARENT
END:VCALENDAR
